{
 "currentVersion": 10.71,
 "serviceDescription": "Administration data",
 "mapName": "Layers",
 "description": "",
 "copyrightText": "",
 "supportsDynamicLayers": true,
 "layers": [
  {
   "id": 0,
   "name": "Аймгийн төв",
   "parentLayerId": -1,
   "defaultVisibility": true,
   "subLayerIds": null,
   "minScale": 0,
   "maxScale": 0,
   "type": "Feature Layer",
   "geometryType": "esriGeometryPoint"
  },
  {
   "id": 1,
   "name": "Сумын төв",
   "parentLayerId": -1,
   "defaultVisibility": true,
   "subLayerIds": null,
   "minScale": 3000000,
   "maxScale": 0,
   "type": "Feature Layer",
   "geometryType": "esriGeometryPoint"
  },
  {
   "id": 2,
   "name": "Улсын хил",
   "parentLayerId": -1,
   "defaultVisibility": true,
   "subLayerIds": null,
   "minScale": 0,
   "maxScale": 0,
   "type": "Feature Layer",
   "geometryType": "esriGeometryPolygon"
  },
  {
   "id": 3,
   "name": "Аймгийн хил",
   "parentLayerId": -1,
   "defaultVisibility": true,
   "subLayerIds": null,
   "minScale": 0,
   "maxScale": 0,
   "type": "Feature Layer",
   "geometryType": "esriGeometryPolygon"
  },
  {
   "id": 4,
   "name": "Сумын хил",
   "parentLayerId": -1,
   "defaultVisibility": true,
   "subLayerIds": null,
   "minScale": 3000000,
   "maxScale": 0,
   "type": "Feature Layer",
   "geometryType": "esriGeometryPolygon"
  }
 ],
 "tables": [],
 "spatialReference": {
  "wkid": 32648,
  "latestWkid": 32648
 },
 "singleFusedMapCache": true,
 "tileInfo": {
  "rows": 256,
  "cols": 256,
  "dpi": 96,
  "format": "PNG",
  "compressionQuality": 0,
  "origin": {
   "x": -5120900,
   "y": 9998100
  },
  "spatialReference": {
   "wkid": 32648,
   "latestWkid": 32648
  },
  "lods": [
   {
    "level": 0,
    "resolution": 4233.341800016934,
    "scale": 16000000
   },
   {
    "level": 1,
    "resolution": 2116.670900008467,
    "scale": 8000000
   },
   {
    "level": 2,
    "resolution": 1058.3354500042335,
    "scale": 4000000
   },
   {
    "level": 3,
    "resolution": 529.1677250021168,
    "scale": 2000000
   },
   {
    "level": 4,
    "resolution": 264.5838625010584,
    "scale": 1000000
   },
   {
    "level": 5,
    "resolution": 132.2919312505292,
    "scale": 500000
   },
   {
    "level": 6,
    "resolution": 66.1459656252646,
    "scale": 250000
   },
   {
    "level": 7,
    "resolution": 33.0729828126323,
    "scale": 125000
   },
   {
    "level": 8,
    "resolution": 16.933367200067735,
    "scale": 64000
   }
  ]
 },
 "initialExtent": {
  "xmin": -883172.3225550005,
  "ymin": 4868484.075998706,
  "xmax": 1760241.5462550004,
  "ymax": 6220875.522208466,
  "spatialReference": {
   "wkid": 32648,
   "latestWkid": 32648
  }
 },
 "fullExtent": {
  "xmin": -763017.1467000004,
  "ymin": 4603349.3397,
  "xmax": 1640086.3704000004,
  "ymax": 5795040.5112,
  "spatialReference": {
   "wkid": 32648,
   "latestWkid": 32648
  }
 },
 "minScale": 16000000,
 "maxScale": 64000,
 "minLOD": 63,
 "maxLOD": 63,
 "units": "esriMeters",
 "supportedImageFormatTypes": "PNG32,PNG24,PNG,JPG,DIB,TIFF,EMF,PS,PDF,GIF,SVG,SVGZ,BMP",
 "documentInfo": {
  "Title": "",
  "Author": "",
  "Comments": "",
  "Subject": "",
  "Category": "",
  "AntialiasingMode": "None",
  "TextAntialiasingMode": "Force",
  "Keywords": "aimag,soum"
 },
 "capabilities": "Map,Query,Data",
 "supportedQueryFormats": "JSON, geoJSON",
 "exportTilesAllowed": false,
 "supportsDatumTransformation": true,
 "maxRecordCount": 1000,
 "maxImageHeight": 4096,
 "maxImageWidth": 4096,
 "supportedExtensions": "FeatureServer, WMSServer"
}
