{
 "currentVersion": 10.71,
 "serviceDescription": "1:200 000 масштабтай байр зүйн зураг",
 "mapName": "Layers",
 "description": "",
 "copyrightText": "",
 "supportsDynamicLayers": true,
 "layers": [
  {
   "id": 0,
   "name": "TopoMap200.sid",
   "parentLayerId": -1,
   "defaultVisibility": true,
   "subLayerIds": null,
   "minScale": 0,
   "maxScale": 0,
   "type": "Raster Layer"
  }
 ],
 "tables": [],
 "spatialReference": {
  "wkid": 4326,
  "latestWkid": 4326
 },
 "singleFusedMapCache": true,
 "tileInfo": {
  "rows": 256,
  "cols": 256,
  "dpi": 96,
  "format": "MIXED",
  "compressionQuality": 75,
  "origin": {
   "x": -400,
   "y": 399.9999999999998
  },
  "spatialReference": {
   "wkid": 4326,
   "latestWkid": 4326
  },
  "lods": [
   {
    "level": 0,
    "resolution": 0.03807137609328448,
    "scale": 16000000
   },
   {
    "level": 1,
    "resolution": 0.01903568804664224,
    "scale": 8000000
   },
   {
    "level": 2,
    "resolution": 0.00951784402332112,
    "scale": 4000000
   },
   {
    "level": 3,
    "resolution": 0.00475892201166056,
    "scale": 2000000
   },
   {
    "level": 4,
    "resolution": 0.00237946100583028,
    "scale": 1000000
   },
   {
    "level": 5,
    "resolution": 0.00118973050291514,
    "scale": 500000
   },
   {
    "level": 6,
    "resolution": 5.9486525145757E-4,
    "scale": 250000
   },
   {
    "level": 7,
    "resolution": 2.97432625728785E-4,
    "scale": 125000
   },
   {
    "level": 8,
    "resolution": 1.5228550437313792E-4,
    "scale": 64000
   },
   {
    "level": 9,
    "resolution": 7.614275218656896E-5,
    "scale": 32000
   }
  ]
 },
 "initialExtent": {
  "xmin": 86.09785068902009,
  "ymin": 40.79982598638365,
  "xmax": 121.61461548346948,
  "ymax": 52.533385184549914,
  "spatialReference": {
   "wkid": 4326,
   "latestWkid": 4326
  }
 },
 "fullExtent": {
  "xmin": 87.71224908876779,
  "ymin": 41.3331695863003,
  "xmax": 120.00021708372178,
  "ymax": 52.000041584633266,
  "spatialReference": {
   "wkid": 4326,
   "latestWkid": 4326
  }
 },
 "minScale": 16000000,
 "maxScale": 32000,
 "units": "esriDecimalDegrees",
 "supportedImageFormatTypes": "PNG32,PNG24,PNG,JPG,DIB,TIFF,EMF,PS,PDF,GIF,SVG,SVGZ,BMP",
 "documentInfo": {
  "Title": "",
  "Author": "",
  "Comments": "",
  "Subject": "",
  "Category": "",
  "AntialiasingMode": "None",
  "TextAntialiasingMode": "Force",
  "Keywords": "topographic"
 },
 "capabilities": "Map,Query,Data",
 "supportedQueryFormats": "JSON, geoJSON",
 "exportTilesAllowed": false,
 "supportsDatumTransformation": true,
 "maxRecordCount": 1000,
 "maxImageHeight": 4096,
 "maxImageWidth": 4096,
 "supportedExtensions": "WMSServer"
}
